BEGIN:VCALENDAR
VERSION:2.0
PRODID:-//Sabre//Sabre VObject 3.4.0//EN
CALSCALE:GREGORIAN
BEGIN:VTIMEZONE
TZID:Europe/Berlin
TZURL:http://tzurl.org/zoneinfo-outlook/Europe/Berlin
X-LIC-LOCATION:Europe/Berlin
X-MICROSOFT-CDO-TZID:Europe/Berlin
BEGIN:DAYLIGHT
TZOFFSETFROM:+0100
TZOFFSETTO:+0200
TZNAME:CEST
DTSTART:19700329T020000
RRULE:FREQ=YEARLY;BYMONTH=3;BYDAY=-1SU
END:DAYLIGHT
BEGIN:STANDARD
TZOFFSETFROM:+0200
TZOFFSETTO:+0100
TZNAME:CET
DTSTART:19701025T030000
RRULE:FREQ=YEARLY;BYMONTH=10;BYDAY=-1SU
END:STANDARD
END:VTIMEZONE
BEGIN:VEVENT
DTSTAMP:20250304T163348Z
UID:opas-diandl-3_51705@ufobruneck-it
URL:https://ufobruneck.it/it/events/opas-diandl-3/
LOCATION:UFO\, via Josef-Ferrari-Straße 20\, 39031\, Bruneck/Brunico
SUMMARY:Opas Diandl
DESCRIPTION:Quanto le risate e le lacrime\, la gioia e la tristezza\, la no
 stalgia di casa e la voglia di viaggiare siano strettamente connesse tra d
 i loro e quale grande energia e ispirazione possano sprigionare questi opp
 osti lo dimostrano gli OPAS DIANDL anche quest'anno con il nuovo programma
  RIARN &amp\; GSPIARN (muovere e sentire\, più o...
DTSTART;TZID=Europe/Berlin:20250314T200000
DTEND;TZID=Europe/Berlin:20250314T200000
END:VEVENT
END:VCALENDAR
