BEGIN:VCALENDAR
VERSION:2.0
PRODID:-//Sabre//Sabre VObject 3.4.0//EN
CALSCALE:GREGORIAN
BEGIN:VTIMEZONE
TZID:Europe/Berlin
TZURL:http://tzurl.org/zoneinfo-outlook/Europe/Berlin
X-LIC-LOCATION:Europe/Berlin
X-MICROSOFT-CDO-TZID:Europe/Berlin
BEGIN:DAYLIGHT
TZOFFSETFROM:+0100
TZOFFSETTO:+0200
TZNAME:CEST
DTSTART:19700329T020000
RRULE:FREQ=YEARLY;BYMONTH=3;BYDAY=-1SU
END:DAYLIGHT
BEGIN:STANDARD
TZOFFSETFROM:+0200
TZOFFSETTO:+0100
TZNAME:CET
DTSTART:19701025T030000
RRULE:FREQ=YEARLY;BYMONTH=10;BYDAY=-1SU
END:STANDARD
END:VTIMEZONE
BEGIN:VEVENT
DTSTAMP:20240219T105708Z
UID:julia-mateus-die-kapitaenin-der-titanic_31171@ufobruneck-it
URL:https://ufobruneck.it/it/events/julia-mateus-die-kapitaenin-der-titanic
 /
LOCATION:UFO\, via Josef-Ferrari-Straße 20\, 39031\, Bruneck/Brunico
SUMMARY:Julia Mateus: Die Kapitänin der Titanic
DESCRIPTION:Il papa\, politici\, VIP – la rivista satirica “Titanic” 
 dal 1979 non risparmia nessuno. Con umorismo mordace e molte caricature. E
  non c’è da meravigliarsi\, essendo stata fondata da scrittori\, satiri
 ci e caricaturisti di fama. Da ottobre 2022 Julia Mateus è la prima donna
  a capo della redazione e\, nonostante le grosse ondate\, mantiene il...
DTSTART;TZID=Europe/Berlin:20240227T200000
DTEND;TZID=Europe/Berlin:20240227T200000
END:VEVENT
END:VCALENDAR
