BEGIN:VCALENDAR
VERSION:2.0
PRODID:-//Sabre//Sabre VObject 3.4.0//EN
CALSCALE:GREGORIAN
BEGIN:VTIMEZONE
TZID:Europe/Berlin
TZURL:http://tzurl.org/zoneinfo-outlook/Europe/Berlin
X-LIC-LOCATION:Europe/Berlin
X-MICROSOFT-CDO-TZID:Europe/Berlin
BEGIN:DAYLIGHT
TZOFFSETFROM:+0100
TZOFFSETTO:+0200
TZNAME:CEST
DTSTART:19700329T020000
RRULE:FREQ=YEARLY;BYMONTH=3;BYDAY=-1SU
END:DAYLIGHT
BEGIN:STANDARD
TZOFFSETFROM:+0200
TZOFFSETTO:+0100
TZNAME:CET
DTSTART:19701025T030000
RRULE:FREQ=YEARLY;BYMONTH=10;BYDAY=-1SU
END:STANDARD
END:VTIMEZONE
BEGIN:VEVENT
DTSTAMP:20230417T085607Z
UID:graveworm-album-release-show_27903@ufobruneck-it
URL:https://ufobruneck.it/it/events/graveworm-album-release-show/
LOCATION:UFO\, via Josef-Ferrari-Straße 20\, 39031\, Bruneck/Brunico
SUMMARY:GRAVEWORM - Album Release Show
DESCRIPTION:È giunto il momento di avvolgere l’UFO di scuro. I Graveworm
  di Brunico faranno gli onori di casa e presenteranno il loro decimo album
  “Killing Innocence”. Chi ha già visto i ragazzi dal vivo avrà un’
 idea di cosa aspettarsi. Riff micidiali abbinati a melodie\, una batteria 
 che spacca e una voce che non potrebbe essere...
DTSTART;TZID=Europe/Berlin:20230422T200000
DTEND;TZID=Europe/Berlin:20230422T200000
END:VEVENT
END:VCALENDAR
