BEGIN:VCALENDAR
VERSION:2.0
PRODID:-//Sabre//Sabre VObject 3.4.0//EN
CALSCALE:GREGORIAN
BEGIN:VTIMEZONE
TZID:Europe/Berlin
TZURL:http://tzurl.org/zoneinfo-outlook/Europe/Berlin
X-LIC-LOCATION:Europe/Berlin
X-MICROSOFT-CDO-TZID:Europe/Berlin
BEGIN:DAYLIGHT
TZOFFSETFROM:+0100
TZOFFSETTO:+0200
TZNAME:CEST
DTSTART:19700329T020000
RRULE:FREQ=YEARLY;BYMONTH=3;BYDAY=-1SU
END:DAYLIGHT
BEGIN:STANDARD
TZOFFSETFROM:+0200
TZOFFSETTO:+0100
TZNAME:CET
DTSTART:19701025T030000
RRULE:FREQ=YEARLY;BYMONTH=10;BYDAY=-1SU
END:STANDARD
END:VTIMEZONE
BEGIN:VEVENT
DTSTAMP:20210812T195507Z
UID:gli-anni-piu-belli-2_21216@ufobruneck-it
URL:https://ufobruneck.it/it/events/gli-anni-piu-belli-2/
LOCATION:UFO\, via Josef-Ferrari-Straße 20\, 39031\, Bruneck/Brunico
SUMMARY:Gli anni più belli
DESCRIPTION:Film in lingua italiana\;       Italia 2020\, 129 min.\;  
   regia: Gabriele Muccino\;    con: Pierfrancesco Favino\, Micaela Rama
 zzotti\, Kim Rossi Stuart\;    La storia di quattro amici - Giulio\, Gem
 ma\, Paolo\, Riccardo - raccontata nell’arco di quarant’anni\, dal 198
 0 ad oggi\, dall’adolescenza all’età adulta. Le loro speranze\, le lo
 ro delusioni\, i loro successi...
DTSTART;TZID=Europe/Berlin:20210812T210000
DTEND;TZID=Europe/Berlin:20210812T210000
END:VEVENT
END:VCALENDAR
