BEGIN:VCALENDAR
VERSION:2.0
PRODID:-//Sabre//Sabre VObject 3.4.0//EN
CALSCALE:GREGORIAN
BEGIN:VTIMEZONE
TZID:Europe/Berlin
TZURL:http://tzurl.org/zoneinfo-outlook/Europe/Berlin
X-LIC-LOCATION:Europe/Berlin
X-MICROSOFT-CDO-TZID:Europe/Berlin
BEGIN:DAYLIGHT
TZOFFSETFROM:+0100
TZOFFSETTO:+0200
TZNAME:CEST
DTSTART:19700329T020000
RRULE:FREQ=YEARLY;BYMONTH=3;BYDAY=-1SU
END:DAYLIGHT
BEGIN:STANDARD
TZOFFSETFROM:+0200
TZOFFSETTO:+0100
TZNAME:CET
DTSTART:19701025T030000
RRULE:FREQ=YEARLY;BYMONTH=10;BYDAY=-1SU
END:STANDARD
END:VTIMEZONE
BEGIN:VEVENT
DTSTAMP:20240116T175723Z
UID:felipe-baldomir-opening-act-moritz-gamper-2_35169@ufobruneck-it
URL:https://ufobruneck.it/it/events/felipe-baldomir-opening-act-moritz-gamp
 er-2/
LOCATION:UFO\, via Josef-Ferrari-Straße 20\, 39031\, Bruneck/Brunico
SUMMARY:Felipe Baldomir // Opening Act: Moritz Gamper
DESCRIPTION:Felipe Baldomir è un cantautore indie folk uruguaiano\, attual
 mente residente a Byron Bay\, in Australia. La sua musica è spesso descri
 tta come un incrocio tra Jack Johnson\, Xavier Rudd e Tash Sultana - il su
 o suono costiero spazia dal mondo folk dalle atmosfere aperte\, armonica a
  bocca e power beat a un paesaggio sonoro allegro...
DTSTART;TZID=Europe/Berlin:20240229T200000
DTEND;TZID=Europe/Berlin:20240229T200000
END:VEVENT
END:VCALENDAR
