BEGIN:VCALENDAR
VERSION:2.0
PRODID:-//Sabre//Sabre VObject 3.4.0//EN
CALSCALE:GREGORIAN
BEGIN:VTIMEZONE
TZID:Europe/Berlin
TZURL:http://tzurl.org/zoneinfo-outlook/Europe/Berlin
X-LIC-LOCATION:Europe/Berlin
X-MICROSOFT-CDO-TZID:Europe/Berlin
BEGIN:DAYLIGHT
TZOFFSETFROM:+0100
TZOFFSETTO:+0200
TZNAME:CEST
DTSTART:19700329T020000
RRULE:FREQ=YEARLY;BYMONTH=3;BYDAY=-1SU
END:DAYLIGHT
BEGIN:STANDARD
TZOFFSETFROM:+0200
TZOFFSETTO:+0100
TZNAME:CET
DTSTART:19701025T030000
RRULE:FREQ=YEARLY;BYMONTH=10;BYDAY=-1SU
END:STANDARD
END:VTIMEZONE
BEGIN:VEVENT
DTSTAMP:20190108T154511Z
UID:dominik-plangger-live-in-concert-4_15106@ufobruneck-it
URL:https://ufobruneck.it/it/events/dominik-plangger-live-in-concert-4/
LOCATION:UFO\, via Josef-Ferrari-Straße 20\, 39031\, Bruneck/Brunico
SUMMARY:Dominik Plangger // Live in Concert
DESCRIPTION:Dominik Plangger\, classe 1980\, torna in Alto Adige per il tou
 r “10 anni live”. Il cantautore venostano è sia un brillante chitarri
 sta che un cantante meraviglioso con una voce chiara e affascinante. Assol
 utamente da vedere. L’ultimo album “Decennium” (2018) contiene i suo
 i brani famosi ma anche brani inediti in dialetto venostano\, tedesco ed i
 taliano. La...
DTSTART;TZID=Europe/Berlin:20190314T203000
DTEND;TZID=Europe/Berlin:20190314T203000
END:VEVENT
END:VCALENDAR
