BEGIN:VCALENDAR
VERSION:2.0
PRODID:-//Sabre//Sabre VObject 3.4.0//EN
CALSCALE:GREGORIAN
BEGIN:VTIMEZONE
TZID:Europe/Berlin
TZURL:http://tzurl.org/zoneinfo-outlook/Europe/Berlin
X-LIC-LOCATION:Europe/Berlin
X-MICROSOFT-CDO-TZID:Europe/Berlin
BEGIN:DAYLIGHT
TZOFFSETFROM:+0100
TZOFFSETTO:+0200
TZNAME:CEST
DTSTART:19700329T020000
RRULE:FREQ=YEARLY;BYMONTH=3;BYDAY=-1SU
END:DAYLIGHT
BEGIN:STANDARD
TZOFFSETFROM:+0200
TZOFFSETTO:+0100
TZNAME:CET
DTSTART:19701025T030000
RRULE:FREQ=YEARLY;BYMONTH=10;BYDAY=-1SU
END:STANDARD
END:VTIMEZONE
BEGIN:VEVENT
DTSTAMP:20170906T092759Z
UID:die-groesste-waerterfabrik_10754@ufobruneck-it
URL:https://ufobruneck.it/it/events/die-groesste-waerterfabrik/
LOCATION:UFO\, via Josef-Ferrari-Straße 20\, 39031\, Bruneck/Brunico
SUMMARY:Die große Wörterfabrik
DESCRIPTION:Un racconto poetico sulla forza dei sentimenti\, che apre un mo
 ndo lontano dalla lingua\, portato in scena da Giovanni Jussi con molta mu
 sica e fantasia. Spettacoli: Ven. 24. &amp\; Sab. 25. novembre\, ore 16\;
     Spettacoli per alunni: Gio. 23. &amp\; Ven. 24. novembre\, ore 10\; 
    Prenotazione biglietti &amp\; info: Vereinigte Bühnen Bozen\, www.t
 heater-bozen.it 0471 065 320...
DTSTART;TZID=Europe/Berlin:20171124T160000
DTEND;TZID=Europe/Berlin:20171124T160000
END:VEVENT
END:VCALENDAR
