BEGIN:VCALENDAR
VERSION:2.0
PRODID:-//Sabre//Sabre VObject 3.4.0//EN
CALSCALE:GREGORIAN
BEGIN:VTIMEZONE
TZID:Europe/Berlin
TZURL:http://tzurl.org/zoneinfo-outlook/Europe/Berlin
X-LIC-LOCATION:Europe/Berlin
X-MICROSOFT-CDO-TZID:Europe/Berlin
BEGIN:DAYLIGHT
TZOFFSETFROM:+0100
TZOFFSETTO:+0200
TZNAME:CEST
DTSTART:19700329T020000
RRULE:FREQ=YEARLY;BYMONTH=3;BYDAY=-1SU
END:DAYLIGHT
BEGIN:STANDARD
TZOFFSETFROM:+0200
TZOFFSETTO:+0100
TZNAME:CET
DTSTART:19701025T030000
RRULE:FREQ=YEARLY;BYMONTH=10;BYDAY=-1SU
END:STANDARD
END:VTIMEZONE
BEGIN:VEVENT
DTSTAMP:20180824T115009Z
UID:der-regenbogenfisch-2_14270@ufobruneck-it
URL:https://ufobruneck.it/it/events/der-regenbogenfisch-2/
LOCATION:UFO\, via Josef-Ferrari-Straße 20\, 39031\, Bruneck/Brunico
SUMMARY:Der Regenbogenfisch
DESCRIPTION:Tratto dal libro illustrato “Arcobaleno\, il pesciolino più 
 bello di tutti i mari”\, che da 25 anni appassiona bambini in tutto il m
 ondo – una storia incantevole sulla bellezza e sull’amicizia\, come se
  ne va e come ritorna. Con molta musica il pesciolino luccicante porta i p
 iccoli spettatori alla ricerca della felicità e dell’affetto. Prenotazi
 one...
DTSTART;TZID=Europe/Berlin:20181128T100000
DTEND;TZID=Europe/Berlin:20181128T100000
END:VEVENT
END:VCALENDAR
