BEGIN:VCALENDAR
VERSION:2.0
PRODID:-//Sabre//Sabre VObject 3.4.0//EN
CALSCALE:GREGORIAN
BEGIN:VTIMEZONE
TZID:Europe/Berlin
TZURL:http://tzurl.org/zoneinfo-outlook/Europe/Berlin
X-LIC-LOCATION:Europe/Berlin
X-MICROSOFT-CDO-TZID:Europe/Berlin
BEGIN:DAYLIGHT
TZOFFSETFROM:+0100
TZOFFSETTO:+0200
TZNAME:CEST
DTSTART:19700329T020000
RRULE:FREQ=YEARLY;BYMONTH=3;BYDAY=-1SU
END:DAYLIGHT
BEGIN:STANDARD
TZOFFSETFROM:+0200
TZOFFSETTO:+0100
TZNAME:CET
DTSTART:19701025T030000
RRULE:FREQ=YEARLY;BYMONTH=10;BYDAY=-1SU
END:STANDARD
END:VTIMEZONE
BEGIN:VEVENT
DTSTAMP:20190604T163418Z
UID:burg-schreckenstein-2-2_16845@ufobruneck-it
URL:https://ufobruneck.it/it/events/burg-schreckenstein-2-2/
LOCATION:UFO\, via Josef-Ferrari-Straße 20\, 39031\, Bruneck/Brunico
SUMMARY:Burg Schreckenstein 2
DESCRIPTION:film in lingua tedesca\;    Germania 2017\, 100 min.\;    R
 egia: Ralf Huettnr\;    con: Henning Baum\, Sophie Rois\, Alexander Beye
 r\;    Schreckenstein und Rosenfels überbieten sich bei den alljährlic
 hen Wettkämpfen am Kapellsee wieder mit ausgeklügelten Sabotageakten. Do
 ch dann stürzt der Zeppelin des Grafen ab\, dieser landet im Sanatorium u
 nd ist finanziell ruiniert. Sein Stellvertreter...
DTSTART;TZID=Europe/Berlin:20190723T170000
DTEND;TZID=Europe/Berlin:20190723T170000
END:VEVENT
END:VCALENDAR
