BEGIN:VCALENDAR
VERSION:2.0
PRODID:-//Sabre//Sabre VObject 3.4.0//EN
CALSCALE:GREGORIAN
BEGIN:VTIMEZONE
TZID:Europe/Berlin
TZURL:http://tzurl.org/zoneinfo-outlook/Europe/Berlin
X-LIC-LOCATION:Europe/Berlin
X-MICROSOFT-CDO-TZID:Europe/Berlin
BEGIN:DAYLIGHT
TZOFFSETFROM:+0100
TZOFFSETTO:+0200
TZNAME:CEST
DTSTART:19700329T020000
RRULE:FREQ=YEARLY;BYMONTH=3;BYDAY=-1SU
END:DAYLIGHT
BEGIN:STANDARD
TZOFFSETFROM:+0200
TZOFFSETTO:+0100
TZNAME:CET
DTSTART:19701025T030000
RRULE:FREQ=YEARLY;BYMONTH=10;BYDAY=-1SU
END:STANDARD
END:VTIMEZONE
BEGIN:VEVENT
DTSTAMP:20180529T163723Z
UID:aschenbroedel-und-der-gestiefelte-kater-2_13146@ufobruneck-it
URL:https://ufobruneck.it/it/events/aschenbroedel-und-der-gestiefelte-kater
 -2/
LOCATION:UFO\, via Josef-Ferrari-Straße 20\, 39031\, Bruneck/Brunico
SUMMARY:Aschenbrödel und der gestiefelte Kater
DESCRIPTION:in lingua tedesca\;    Germania 2013\, 60 min.\;    regia:
  Torsten Künstler\;    con: Ezra Finzi\, Samuel Finzi\, Marie-Lou Selle
 m\;    Der kleine Paul und sein Märchenbär MiKi lieben Märchen über 
 alles. Als Pauls Familie in die Großstadt zieht\, fühlt er sich erst seh
 r einsam\, doch dann entdeckt er mitten in der Stadt die Märchenhütte\, 
 einen...
DTSTART;TZID=Europe/Berlin:20180724T180000
DTEND;TZID=Europe/Berlin:20180724T180000
END:VEVENT
END:VCALENDAR
