BEGIN:VCALENDAR
VERSION:2.0
PRODID:-//Sabre//Sabre VObject 3.4.0//EN
CALSCALE:GREGORIAN
BEGIN:VTIMEZONE
TZID:Europe/Berlin
TZURL:http://tzurl.org/zoneinfo-outlook/Europe/Berlin
X-LIC-LOCATION:Europe/Berlin
X-MICROSOFT-CDO-TZID:Europe/Berlin
BEGIN:DAYLIGHT
TZOFFSETFROM:+0100
TZOFFSETTO:+0200
TZNAME:CEST
DTSTART:19700329T020000
RRULE:FREQ=YEARLY;BYMONTH=3;BYDAY=-1SU
END:DAYLIGHT
BEGIN:STANDARD
TZOFFSETFROM:+0200
TZOFFSETTO:+0100
TZNAME:CET
DTSTART:19701025T030000
RRULE:FREQ=YEARLY;BYMONTH=10;BYDAY=-1SU
END:STANDARD
END:VTIMEZONE
BEGIN:VEVENT
DTSTAMP:20220513T112056Z
UID:shanti-powa-wicked-and-bonny-ethnic-techniques-dj-kame_24054@ufobruneck
 -it
URL:https://ufobruneck.it/events/shanti-powa-wicked-and-bonny-ethnic-techni
 ques-dj-kame/
LOCATION:UFO\, via Josef-Ferrari-Straße 20\, 39031\, Bruneck/Brunico
SUMMARY:Shanti Powa\, Wicked and Bonny\, Ethnic Techniques\, Dj Kame
DESCRIPTION:Endlich wieder gute ehrliche Livemusik! Das elfköpfige Orchest
 er Shanti Powa ist wieder auf der UFO-Bühne. Sie produzieren einen kraftv
 ollen Crossover aus Reggae\, Rap\, Dub\, Ska\, Dancehall\, Funk &amp\; Roc
 k. Aufgrund der unterschiedlichen kulturellen und musikalischen Hintergrü
 nde der Bandmitglieder gibt es ein Feuerwerk an sprachlicher Vielfalt im G
 esang und Sounds der zahlreichen Instrumente. Auf der Bühne...
DTSTART;TZID=Europe/Berlin:20220513T200000
DTEND;TZID=Europe/Berlin:20220513T200000
END:VEVENT
END:VCALENDAR
