BEGIN:VCALENDAR
VERSION:2.0
PRODID:-//Sabre//Sabre VObject 3.4.0//EN
CALSCALE:GREGORIAN
BEGIN:VTIMEZONE
TZID:Europe/Berlin
TZURL:http://tzurl.org/zoneinfo-outlook/Europe/Berlin
X-LIC-LOCATION:Europe/Berlin
X-MICROSOFT-CDO-TZID:Europe/Berlin
BEGIN:DAYLIGHT
TZOFFSETFROM:+0100
TZOFFSETTO:+0200
TZNAME:CEST
DTSTART:19700329T020000
RRULE:FREQ=YEARLY;BYMONTH=3;BYDAY=-1SU
END:DAYLIGHT
BEGIN:STANDARD
TZOFFSETFROM:+0200
TZOFFSETTO:+0100
TZNAME:CET
DTSTART:19701025T030000
RRULE:FREQ=YEARLY;BYMONTH=10;BYDAY=-1SU
END:STANDARD
END:VTIMEZONE
BEGIN:VEVENT
DTSTAMP:20151204T000306Z
UID:oh-wie-schoen-ist-panama-zusatzvorstellung_4183@ufobruneck-it
URL:https://ufobruneck.it/events/oh-wie-schoen-ist-panama-zusatzvorstellung
 /
LOCATION:UFO\, via Josef-Ferrari-Straße 20\, 39031\, Bruneck/Brunico
SUMMARY:Oh\, wie schön ist Panama - Zusatzvorstellung
DESCRIPTION:Eine Produktion der Vereinigten Bühnen Bozen in Zusammenarbeit
  mit dem Jugend- und Kulturzentrum UFO. Regie: Agnese Cornelio // Bühn
 e: Luis Graninger // Kostüme: Alexia Engl // Licht: Tobias Demetz // D
 ramaturgie: Ina Tartler Mit: Alexa Brunner\, Daniele Fior\, Katharina Gsc
 hnell  Der kleine Bär und der kleine Tiger sind beste Freunde. Sie wohne
 n in einem gemütlichen Haus unten am Fluss. Es geht ihnen...
DTSTART;TZID=Europe/Berlin:20151129T173000
DTEND;TZID=Europe/Berlin:20151129T173000
END:VEVENT
END:VCALENDAR
