BEGIN:VCALENDAR
VERSION:2.0
PRODID:-//Sabre//Sabre VObject 3.4.0//EN
CALSCALE:GREGORIAN
BEGIN:VTIMEZONE
TZID:Europe/Berlin
TZURL:http://tzurl.org/zoneinfo-outlook/Europe/Berlin
X-LIC-LOCATION:Europe/Berlin
X-MICROSOFT-CDO-TZID:Europe/Berlin
BEGIN:DAYLIGHT
TZOFFSETFROM:+0100
TZOFFSETTO:+0200
TZNAME:CEST
DTSTART:19700329T020000
RRULE:FREQ=YEARLY;BYMONTH=3;BYDAY=-1SU
END:DAYLIGHT
BEGIN:STANDARD
TZOFFSETFROM:+0200
TZOFFSETTO:+0100
TZNAME:CET
DTSTART:19701025T030000
RRULE:FREQ=YEARLY;BYMONTH=10;BYDAY=-1SU
END:STANDARD
END:VTIMEZONE
BEGIN:VEVENT
DTSTAMP:20260128T123302Z
UID:mittelschul-faschingsparty_60463@ufobruneck-it
URL:https://ufobruneck.it/events/mittelschul-faschingsparty/
LOCATION:UFO\, via Josef-Ferrari-Straße 20\, 39031\, Bruneck/Brunico
SUMMARY:Mittelschul-FASCHINGSPARTY
DESCRIPTION:Eine bunte Party im UFO-Treff für Kids von 18 bis 22 Uhr mit d
 em coolen DJ Jmotion. Es gibt eine Dance area\, eine Faschings-Lounge\, ei
 nen Gastrobereich mit leckerem Bubble Tea\, Getränken und Snacks\, eine K
 reativecke mit Tattoos\, eine Fotobox und alles unter dem Motto „Carniva
 l“. Also nichts wie ab\, verkleidet euch mit einem verrückten Kostüm\,
 ...
DTSTART;TZID=Europe/Berlin:20260213T180000
DTEND;TZID=Europe/Berlin:20260213T180000
END:VEVENT
END:VCALENDAR
