BEGIN:VCALENDAR
VERSION:2.0
PRODID:-//Sabre//Sabre VObject 3.4.0//EN
CALSCALE:GREGORIAN
BEGIN:VTIMEZONE
TZID:Europe/Berlin
TZURL:http://tzurl.org/zoneinfo-outlook/Europe/Berlin
X-LIC-LOCATION:Europe/Berlin
X-MICROSOFT-CDO-TZID:Europe/Berlin
BEGIN:DAYLIGHT
TZOFFSETFROM:+0100
TZOFFSETTO:+0200
TZNAME:CEST
DTSTART:19700329T020000
RRULE:FREQ=YEARLY;BYMONTH=3;BYDAY=-1SU
END:DAYLIGHT
BEGIN:STANDARD
TZOFFSETFROM:+0200
TZOFFSETTO:+0100
TZNAME:CET
DTSTART:19701025T030000
RRULE:FREQ=YEARLY;BYMONTH=10;BYDAY=-1SU
END:STANDARD
END:VTIMEZONE
BEGIN:VEVENT
DTSTAMP:20220822T171745Z
UID:landor-friends_25097@ufobruneck-it
URL:https://ufobruneck.it/events/landor-friends/
LOCATION:UFO\, via Josef-Ferrari-Straße 20\, 39031\, Bruneck/Brunico
SUMMARY:LANDOR & Friends
DESCRIPTION:Das etwas andere Musikfest: die dreiköpfige Formation Landor r
 und um Katharina Schwärzer\, Daniel Moser und Christian Troger präsentie
 rt erstmals ihr neues Album „LEE SIDE“. Seit der Neugründung 2018 ist
  es Ziel und Konzept von LANDOR\, alle Scheuklappen ad acta zu legen und j
 enseits von Genrebegriffen eigenständige Musik zu kreieren. Akustikgitarr
 e\, Geige\, Stimme\, Bassklarinette\, Holzquerflöte und...
DTSTART;TZID=Europe/Berlin:20220909T200000
DTEND;TZID=Europe/Berlin:20220909T200000
END:VEVENT
END:VCALENDAR
