BEGIN:VCALENDAR
VERSION:2.0
PRODID:-//Sabre//Sabre VObject 3.4.0//EN
CALSCALE:GREGORIAN
BEGIN:VTIMEZONE
TZID:Europe/Berlin
TZURL:http://tzurl.org/zoneinfo-outlook/Europe/Berlin
X-LIC-LOCATION:Europe/Berlin
X-MICROSOFT-CDO-TZID:Europe/Berlin
BEGIN:DAYLIGHT
TZOFFSETFROM:+0100
TZOFFSETTO:+0200
TZNAME:CEST
DTSTART:19700329T020000
RRULE:FREQ=YEARLY;BYMONTH=3;BYDAY=-1SU
END:DAYLIGHT
BEGIN:STANDARD
TZOFFSETFROM:+0200
TZOFFSETTO:+0100
TZNAME:CET
DTSTART:19701025T030000
RRULE:FREQ=YEARLY;BYMONTH=10;BYDAY=-1SU
END:STANDARD
END:VTIMEZONE
BEGIN:VEVENT
DTSTAMP:20250923T125723Z
UID:heldin_58501@ufobruneck-it
URL:https://ufobruneck.it/events/heldin/
LOCATION:UFO\, via Josef-Ferrari-Straße 20\, 39031\, Bruneck/Brunico
SUMMARY:Heldin
DESCRIPTION:Sprache: deutsch\;    Regie: Petra Volpe\;    mit: Leonie B
 enesch\, Sonja Riesen\, Urs Bihler\, Margherita Schoch\, Jürg Plüss\;  
      CH/DE 2025\, 92'\;    Pflegefachkraft Floria arbeitet mit große
 r Leidenschaft und Professionalität in der Chirurgie eines Schweizer Kran
 kenhauses. Bei ihr sitzt jeder Handgriff\, sie hat selbst in stressigen Si
 tuationen immer ein offenes Ohr für ihre...
DTSTART;TZID=Europe/Berlin:20250925T200000
DTEND;TZID=Europe/Berlin:20250925T200000
END:VEVENT
END:VCALENDAR
