BEGIN:VCALENDAR
VERSION:2.0
PRODID:-//Sabre//Sabre VObject 3.4.0//EN
CALSCALE:GREGORIAN
BEGIN:VTIMEZONE
TZID:Europe/Berlin
TZURL:http://tzurl.org/zoneinfo-outlook/Europe/Berlin
X-LIC-LOCATION:Europe/Berlin
X-MICROSOFT-CDO-TZID:Europe/Berlin
BEGIN:DAYLIGHT
TZOFFSETFROM:+0100
TZOFFSETTO:+0200
TZNAME:CEST
DTSTART:19700329T020000
RRULE:FREQ=YEARLY;BYMONTH=3;BYDAY=-1SU
END:DAYLIGHT
BEGIN:STANDARD
TZOFFSETFROM:+0200
TZOFFSETTO:+0100
TZNAME:CET
DTSTART:19701025T030000
RRULE:FREQ=YEARLY;BYMONTH=10;BYDAY=-1SU
END:STANDARD
END:VTIMEZONE
BEGIN:VEVENT
DTSTAMP:20191106T100453Z
UID:friederike-pohlin_17995@ufobruneck-it
URL:https://ufobruneck.it/events/friederike-pohlin/
LOCATION:UFO\, via Josef-Ferrari-Straße 20\, 39031\, Bruneck/Brunico
SUMMARY:Friederike Pohlin
DESCRIPTION:Am 4. Dezember ist „World Wildlife Conservation Day“. An di
 esem Tag wollen wir ein Bewusstsein über Wildtierkriminalität und dessen
  Auswirkung auf den Artenschutz schaffen. Die Wilderei ist außer Kontroll
 e geraten – pro Tag sterben 3 Nashörner\, 55 Elefanten und 190 Schuppen
 tiere! Der Grund für das brutale Abmetzeln der Tiere ist die ungebremste 
 Nachfrage nach ihren...
DTSTART;TZID=Europe/Berlin:20191204T200000
DTEND;TZID=Europe/Berlin:20191204T200000
END:VEVENT
END:VCALENDAR
