BEGIN:VCALENDAR
VERSION:2.0
PRODID:-//Sabre//Sabre VObject 3.4.0//EN
CALSCALE:GREGORIAN
BEGIN:VTIMEZONE
TZID:Europe/Berlin
TZURL:http://tzurl.org/zoneinfo-outlook/Europe/Berlin
X-LIC-LOCATION:Europe/Berlin
X-MICROSOFT-CDO-TZID:Europe/Berlin
BEGIN:DAYLIGHT
TZOFFSETFROM:+0100
TZOFFSETTO:+0200
TZNAME:CEST
DTSTART:19700329T020000
RRULE:FREQ=YEARLY;BYMONTH=3;BYDAY=-1SU
END:DAYLIGHT
BEGIN:STANDARD
TZOFFSETFROM:+0200
TZOFFSETTO:+0100
TZNAME:CET
DTSTART:19701025T030000
RRULE:FREQ=YEARLY;BYMONTH=10;BYDAY=-1SU
END:STANDARD
END:VTIMEZONE
BEGIN:VEVENT
DTSTAMP:20170109T180503Z
UID:florian-wintels_8184@ufobruneck-it
URL:https://ufobruneck.it/events/florian-wintels/
LOCATION:UFO\, via Josef-Ferrari-Straße 20\, 39031\, Bruneck/Brunico
SUMMARY:Florian Wintels
DESCRIPTION:Florian Wintels erspähte am vierten Juni 1993 das Licht der We
 lt und war schon damals recht keck. 2009 bestritt er\, eher gezwungen als 
 wollend\, seinen ersten Poetry Slam in der schönen Grafschaft Bentheim\, 
 die er\, trotz Studiums in Paderborn\, seine Heimat schimpft\, und stellte
  sich dabei gar nicht so schlecht an!Die "rappende Slammaschine“ (ARD) i
 st...
DTSTART;TZID=Europe/Berlin:20170228T203000
DTEND;TZID=Europe/Berlin:20170228T203000
END:VEVENT
END:VCALENDAR
