BEGIN:VCALENDAR
VERSION:2.0
PRODID:-//Sabre//Sabre VObject 3.4.0//EN
CALSCALE:GREGORIAN
BEGIN:VTIMEZONE
TZID:Europe/Berlin
TZURL:http://tzurl.org/zoneinfo-outlook/Europe/Berlin
X-LIC-LOCATION:Europe/Berlin
X-MICROSOFT-CDO-TZID:Europe/Berlin
BEGIN:DAYLIGHT
TZOFFSETFROM:+0100
TZOFFSETTO:+0200
TZNAME:CEST
DTSTART:19700329T020000
RRULE:FREQ=YEARLY;BYMONTH=3;BYDAY=-1SU
END:DAYLIGHT
BEGIN:STANDARD
TZOFFSETFROM:+0200
TZOFFSETTO:+0100
TZNAME:CET
DTSTART:19701025T030000
RRULE:FREQ=YEARLY;BYMONTH=10;BYDAY=-1SU
END:STANDARD
END:VTIMEZONE
BEGIN:VEVENT
DTSTAMP:20160307T170502Z
UID:christoph-hainz_4654@ufobruneck-it
URL:https://ufobruneck.it/events/christoph-hainz/
LOCATION:UFO\, via Josef-Ferrari-Straße 20\, 39031\, Bruneck/Brunico
SUMMARY:Christoph Hainz
DESCRIPTION:Markus Frings\; Mediaart Production Coop\; Italien 2014\; 38 Mi
 n.\; deutsch. Die Drei Zinnen und Christoph Hainz sind untrennbar miteina
 nder verbunden: Der 53-jährige aus Nasen bezwang die Nordwand der großen
  Zinne „free solo“ in 48 Minuten. Die Dolomiten sind der Spielplatz de
 s Extrembergsteigers\, der zu den bekanntesten Vertretern seiner Zunft geh
 ört – sein Film „Der Zinnenmann“ ist...
DTSTART;TZID=Europe/Berlin:20160309T203000
DTEND;TZID=Europe/Berlin:20160309T203000
END:VEVENT
END:VCALENDAR
