BEGIN:VCALENDAR
VERSION:2.0
PRODID:-//Sabre//Sabre VObject 3.4.0//EN
CALSCALE:GREGORIAN
BEGIN:VTIMEZONE
TZID:Europe/Berlin
TZURL:http://tzurl.org/zoneinfo-outlook/Europe/Berlin
X-LIC-LOCATION:Europe/Berlin
X-MICROSOFT-CDO-TZID:Europe/Berlin
BEGIN:DAYLIGHT
TZOFFSETFROM:+0100
TZOFFSETTO:+0200
TZNAME:CEST
DTSTART:19700329T020000
RRULE:FREQ=YEARLY;BYMONTH=3;BYDAY=-1SU
END:DAYLIGHT
BEGIN:STANDARD
TZOFFSETFROM:+0200
TZOFFSETTO:+0100
TZNAME:CET
DTSTART:19701025T030000
RRULE:FREQ=YEARLY;BYMONTH=10;BYDAY=-1SU
END:STANDARD
END:VTIMEZONE
BEGIN:VEVENT
DTSTAMP:20170908T085644Z
UID:alternativer-maturaball_10832@ufobruneck-it
URL:https://ufobruneck.it/events/alternativer-maturaball/
LOCATION:UFO\, via Josef-Ferrari-Straße 20\, 39031\, Bruneck/Brunico
SUMMARY:Alternativer Maturaball
DESCRIPTION:5cS des Sprachen- und Realgymnasiums Bruneck\;    Also: „Do
 n’t stop us now“! Wir\, die QUEENs der Klasse 5cS des Sprachen- und Re
 algymnasiums Bruneck\, möchten uns königlich von unserer Schulkarriere v
 erabschieden und veranstalten deshalb am 14. Oktober unseren Maturaball im
  UFO. Ein wichtiger Abschnitt unseres Lebens geht bald zu Ende\, aber „T
 he show must go on“!...
DTSTART;TZID=Europe/Berlin:20171014T210000
DTEND;TZID=Europe/Berlin:20171014T210000
END:VEVENT
END:VCALENDAR
