BEGIN:VCALENDAR
VERSION:2.0
PRODID:-//Sabre//Sabre VObject 3.4.0//EN
CALSCALE:GREGORIAN
BEGIN:VTIMEZONE
TZID:Europe/Berlin
TZURL:http://tzurl.org/zoneinfo-outlook/Europe/Berlin
X-LIC-LOCATION:Europe/Berlin
X-MICROSOFT-CDO-TZID:Europe/Berlin
BEGIN:DAYLIGHT
TZOFFSETFROM:+0100
TZOFFSETTO:+0200
TZNAME:CEST
DTSTART:19700329T020000
RRULE:FREQ=YEARLY;BYMONTH=3;BYDAY=-1SU
END:DAYLIGHT
BEGIN:STANDARD
TZOFFSETFROM:+0200
TZOFFSETTO:+0100
TZNAME:CET
DTSTART:19701025T030000
RRULE:FREQ=YEARLY;BYMONTH=10;BYDAY=-1SU
END:STANDARD
END:VTIMEZONE
BEGIN:VEVENT
DTSTAMP:20191202T082209Z
UID:alpensolo-allein-zu-fuss-von-ost-nach-west_18127@ufobruneck-it
URL:https://ufobruneck.it/events/alpensolo-allein-zu-fuss-von-ost-nach-west
 /
LOCATION:UFO\, via Josef-Ferrari-Straße 20\, 39031\, Bruneck/Brunico
SUMMARY:Alpensolo: Allein zu Fuß von Ost nach West
DESCRIPTION:Was mich die Berge gelehrt haben\;    2017 machte Ana Zirner 
 das\, wovon viele träumen. Sie packte ihren Rucksack und zog los. In 60 T
 age überquerte die freiberufliche Autorin\, Kulturmanagerin und Regisseur
 in die Alpen von Ost nach West und verbrachte dabei die meisten Nächte am
  Berg unter freiem Himmel. Mit jedem Tag ließ sie das...
DTSTART;TZID=Europe/Berlin:20191203T200000
DTEND;TZID=Europe/Berlin:20191203T200000
END:VEVENT
END:VCALENDAR
