BEGIN:VCALENDAR
VERSION:2.0
PRODID:-//Sabre//Sabre VObject 3.4.0//EN
CALSCALE:GREGORIAN
BEGIN:VTIMEZONE
TZID:Europe/Berlin
TZURL:http://tzurl.org/zoneinfo-outlook/Europe/Berlin
X-LIC-LOCATION:Europe/Berlin
X-MICROSOFT-CDO-TZID:Europe/Berlin
BEGIN:DAYLIGHT
TZOFFSETFROM:+0100
TZOFFSETTO:+0200
TZNAME:CEST
DTSTART:19700329T020000
RRULE:FREQ=YEARLY;BYMONTH=3;BYDAY=-1SU
END:DAYLIGHT
BEGIN:STANDARD
TZOFFSETFROM:+0200
TZOFFSETTO:+0100
TZNAME:CET
DTSTART:19701025T030000
RRULE:FREQ=YEARLY;BYMONTH=10;BYDAY=-1SU
END:STANDARD
END:VTIMEZONE
BEGIN:VEVENT
DTSTAMP:20181120T120711Z
UID:3-ufo-social-forum_10734@ufobruneck-it
URL:https://ufobruneck.it/events/3-ufo-social-forum/
LOCATION:UFO\, via Josef-Ferrari-Straße 20\, 39031\, Bruneck/Brunico
SUMMARY:3. UFO Social Forum
DESCRIPTION:Mit LR Philipp Achammer\;    Begegnung im UFO Social Forum un
 d Debatte mit Landesrat Philipp Achammer\, Projektträgern und Initiativen
  und dem Publikum. Am 8. November findet bereits zum dritten Mal das „UF
 O Social Forum“ statt. Die Gesellschaft ist in Bewegung und sucht innova
 tive Antworten auf die Herausforderungen der Zeit. Die Zivilgesellschaft\,
  Selbstorganisation\, Solidarität und Empathie...
DTSTART;TZID=Europe/Berlin:20171108T190000
DTEND;TZID=Europe/Berlin:20171108T190000
END:VEVENT
END:VCALENDAR
